BEGIN:VCALENDAR
VERSION:2.0
PRODID:-//Rosenkeller - ECPv6.15.18//NONSGML v1.0//EN
CALSCALE:GREGORIAN
METHOD:PUBLISH
X-WR-CALNAME:Rosenkeller
X-ORIGINAL-URL:https://rosenkeller.org
X-WR-CALDESC:Veranstaltungen für Rosenkeller
REFRESH-INTERVAL;VALUE=DURATION:PT1H
X-Robots-Tag:noindex
X-PUBLISHED-TTL:PT1H
BEGIN:VTIMEZONE
TZID:Europe/Berlin
BEGIN:DAYLIGHT
TZOFFSETFROM:+0100
TZOFFSETTO:+0200
TZNAME:CEST
DTSTART:20250330T010000
END:DAYLIGHT
BEGIN:STANDARD
TZOFFSETFROM:+0200
TZOFFSETTO:+0100
TZNAME:CET
DTSTART:20251026T010000
END:STANDARD
BEGIN:DAYLIGHT
TZOFFSETFROM:+0100
TZOFFSETTO:+0200
TZNAME:CEST
DTSTART:20260329T010000
END:DAYLIGHT
BEGIN:STANDARD
TZOFFSETFROM:+0200
TZOFFSETTO:+0100
TZNAME:CET
DTSTART:20261025T010000
END:STANDARD
BEGIN:DAYLIGHT
TZOFFSETFROM:+0100
TZOFFSETTO:+0200
TZNAME:CEST
DTSTART:20270328T010000
END:DAYLIGHT
BEGIN:STANDARD
TZOFFSETFROM:+0200
TZOFFSETTO:+0100
TZNAME:CET
DTSTART:20271031T010000
END:STANDARD
END:VTIMEZONE
BEGIN:VEVENT
DTSTART;TZID=Europe/Berlin:20260418T230000
DTEND;TZID=Europe/Berlin:20260419T040000
DTSTAMP:20260419T151315
CREATED:20260413T094502Z
LAST-MODIFIED:20260413T140257Z
UID:3299-1776553200-1776571200@rosenkeller.org
SUMMARY:Rose Nightclubbing
DESCRIPTION:Jeden Samstag Disko im Rosenkeller!\n\n1st floor: 00er bis Heute von Falle.wav\nGanz nach dem Motto: Musik kann zwei Dinge bewegen – dein Herz oder deinen Arsch präsentieren wir euch auf dem vorderen Floor Hits zwischen den 00er Jahren und heute. Dabei erwarten euch (Girly)Pop\, Rnb\, HipHop und Indie von Artist wie Rihanna\, Lady Gaga\, Sean Paul\, Taio Cruz\, Rin\, Bausa\, Kraftklub und vielen mehr.\n2nd floor: Latin Beats & Reggaton von DJ Dani\n\nStart: 23:00 UhrEintritt: 12 € / 8 € ErmäßigtP18 – Ausweispflicht für alle!\n\nWir freuen uns auf euch! \n\n\n__________________________________________________________________\nno antisemitism no racism no sexism no homohostile no ableism – NO HATE\n__________________________________________________________________ \nDisco every Saturday in the Rosenkeller! \n\n1st floor: 00s till today by Falle.wav 2nd floor: Latin Beats & Reggaton by DJ Dani\n\n\nStart: 11 pm\nAdmission: 12 € / 8 € reduced\nP18 – ID requirement for everyone \nWe look forward to seeing you!
URL:https://rosenkeller.org/event/rose-nightclubbing-82/
LOCATION:Rosenkeller\, Johannisstraße 13\, Jena\, Thüringen\, 07743\, Deutschland
CATEGORIES:Disco
ATTACH;FMTTYPE=image/png:https://rosenkeller.org/wp-content/uploads/2026/04/180426-1.png
ORGANIZER;CN="Rosenkeller":MAILTO:booking@rosenkeller.org
END:VEVENT
END:VCALENDAR